BEGIN:VCALENDAR
VERSION:2.0
PRODID:-//West Boundary Elementary School - ECPv6.15.20//NONSGML v1.0//EN
CALSCALE:GREGORIAN
METHOD:PUBLISH
X-ORIGINAL-URL:https://wbes.sd51.bc.ca
X-WR-CALDESC:Events for West Boundary Elementary School
REFRESH-INTERVAL;VALUE=DURATION:PT1H
X-Robots-Tag:noindex
X-PUBLISHED-TTL:PT1H
BEGIN:VTIMEZONE
TZID:America/Vancouver
BEGIN:DAYLIGHT
TZOFFSETFROM:-0800
TZOFFSETTO:-0700
TZNAME:PDT
DTSTART:20240310T100000
END:DAYLIGHT
BEGIN:STANDARD
TZOFFSETFROM:-0700
TZOFFSETTO:-0800
TZNAME:PST
DTSTART:20241103T090000
END:STANDARD
BEGIN:DAYLIGHT
TZOFFSETFROM:-0800
TZOFFSETTO:-0700
TZNAME:PDT
DTSTART:20250309T100000
END:DAYLIGHT
BEGIN:STANDARD
TZOFFSETFROM:-0700
TZOFFSETTO:-0800
TZNAME:PST
DTSTART:20251102T090000
END:STANDARD
BEGIN:DAYLIGHT
TZOFFSETFROM:-0800
TZOFFSETTO:-0700
TZNAME:PDT
DTSTART:20260308T100000
END:DAYLIGHT
BEGIN:STANDARD
TZOFFSETFROM:-0700
TZOFFSETTO:-0800
TZNAME:PST
DTSTART:20261101T090000
END:STANDARD
END:VTIMEZONE
BEGIN:VEVENT
DTSTART;VALUE=DATE:20250206
DTEND;VALUE=DATE:20250207
DTSTAMP:20260420T120203
CREATED:20241120T222850Z
LAST-MODIFIED:20241120T222850Z
UID:50474-1738800000-1738886399@wbes.sd51.bc.ca
SUMMARY:Intermediate Ski Day
DESCRIPTION:
URL:https://wbes.sd51.bc.ca/event/intermediate-ski-day-5/
END:VEVENT
BEGIN:VEVENT
DTSTART;VALUE=DATE:20250211
DTEND;VALUE=DATE:20250212
DTSTAMP:20260420T120203
CREATED:20241212T203159Z
LAST-MODIFIED:20241212T203159Z
UID:50508-1739232000-1739318399@wbes.sd51.bc.ca
SUMMARY:Basketball - away vs. DAPE
DESCRIPTION:
URL:https://wbes.sd51.bc.ca/event/basketball-away-vs-dape/
END:VEVENT
BEGIN:VEVENT
DTSTART;VALUE=DATE:20250213
DTEND;VALUE=DATE:20250214
DTSTAMP:20260420T120203
CREATED:20240910T224226Z
LAST-MODIFIED:20240910T224226Z
UID:50334-1739404800-1739491199@wbes.sd51.bc.ca
SUMMARY:Valentines Day Dance
DESCRIPTION:
URL:https://wbes.sd51.bc.ca/event/valentines-day-dance/
END:VEVENT
BEGIN:VEVENT
DTSTART;VALUE=DATE:20250213
DTEND;VALUE=DATE:20250214
DTSTAMP:20260420T120203
CREATED:20240910T224411Z
LAST-MODIFIED:20240910T224411Z
UID:50336-1739404800-1739491199@wbes.sd51.bc.ca
SUMMARY:Candygrams
DESCRIPTION:Candygrams will be sold by the grade 7’s as a fundraiser for their year end trip.  Order forms will go out the week before.
URL:https://wbes.sd51.bc.ca/event/candygrams/
END:VEVENT
BEGIN:VEVENT
DTSTART;TZID=America/Vancouver:20250213T080000
DTEND;TZID=America/Vancouver:20250213T170000
DTSTAMP:20260420T120203
CREATED:20250214T000805Z
LAST-MODIFIED:20250214T000805Z
UID:50531-1739433600-1739466000@wbes.sd51.bc.ca
SUMMARY:Basketball - Away vs CLES
DESCRIPTION:Game starts at noon.
URL:https://wbes.sd51.bc.ca/event/basketball-away-vs-cles/
END:VEVENT
BEGIN:VEVENT
DTSTART;VALUE=DATE:20250217
DTEND;VALUE=DATE:20250218
DTSTAMP:20260420T120203
CREATED:20240910T225408Z
LAST-MODIFIED:20240910T225408Z
UID:50338-1739750400-1739836799@wbes.sd51.bc.ca
SUMMARY:Family Day - No School
DESCRIPTION:
URL:https://wbes.sd51.bc.ca/event/family-day-no-school-3/
END:VEVENT
BEGIN:VEVENT
DTSTART;VALUE=DATE:20250221
DTEND;VALUE=DATE:20250222
DTSTAMP:20260420T120203
CREATED:20240910T225455Z
LAST-MODIFIED:20240910T225456Z
UID:50340-1740096000-1740182399@wbes.sd51.bc.ca
SUMMARY:School in Session
DESCRIPTION:
URL:https://wbes.sd51.bc.ca/event/school-in-session-16/
END:VEVENT
BEGIN:VEVENT
DTSTART;VALUE=DATE:20250221
DTEND;VALUE=DATE:20250222
DTSTAMP:20260420T120203
CREATED:20241120T222934Z
LAST-MODIFIED:20241120T222934Z
UID:50476-1740096000-1740182399@wbes.sd51.bc.ca
SUMMARY:Intermediate Ski Day
DESCRIPTION:
URL:https://wbes.sd51.bc.ca/event/intermediate-ski-day-6/
END:VEVENT
BEGIN:VEVENT
DTSTART;VALUE=DATE:20250224
DTEND;VALUE=DATE:20250225
DTSTAMP:20260420T120203
CREATED:20241212T203235Z
LAST-MODIFIED:20241212T203235Z
UID:50510-1740355200-1740441599@wbes.sd51.bc.ca
SUMMARY:Basketball - Home vs CLES
DESCRIPTION:
URL:https://wbes.sd51.bc.ca/event/basketball-home-vs-cles/
END:VEVENT
BEGIN:VEVENT
DTSTART;VALUE=DATE:20250226
DTEND;VALUE=DATE:20250227
DTSTAMP:20260420T120203
CREATED:20240910T225700Z
LAST-MODIFIED:20250214T000611Z
UID:50342-1740528000-1740614399@wbes.sd51.bc.ca
SUMMARY:Anti-bullying Day
DESCRIPTION:Students are invited to wear a pink shirt.  If you have one that your student has outgrown or no longer uses\, please send it to school and we will find it a new home.
URL:https://wbes.sd51.bc.ca/event/anti-bullying-day/
END:VEVENT
BEGIN:VEVENT
DTSTART;VALUE=DATE:20250227
DTEND;VALUE=DATE:20250228
DTSTAMP:20260420T120203
CREATED:20250220T224553Z
LAST-MODIFIED:20250220T224553Z
UID:50532-1740614400-1740700799@wbes.sd51.bc.ca
SUMMARY:Symposium of Technology
DESCRIPTION:Intermediate students will be going through stations to learn about drones\, spheros etc.
URL:https://wbes.sd51.bc.ca/event/symposium-of-technology/
END:VEVENT
END:VCALENDAR