BEGIN:VCALENDAR
VERSION:2.0
PRODID:-//West Boundary Elementary School - ECPv6.15.20//NONSGML v1.0//EN
CALSCALE:GREGORIAN
METHOD:PUBLISH
X-WR-CALNAME:West Boundary Elementary School
X-ORIGINAL-URL:https://wbes.sd51.bc.ca
X-WR-CALDESC:Events for West Boundary Elementary School
REFRESH-INTERVAL;VALUE=DURATION:PT1H
X-Robots-Tag:noindex
X-PUBLISHED-TTL:PT1H
BEGIN:VTIMEZONE
TZID:America/Vancouver
BEGIN:DAYLIGHT
TZOFFSETFROM:-0800
TZOFFSETTO:-0700
TZNAME:PDT
DTSTART:20240310T100000
END:DAYLIGHT
BEGIN:STANDARD
TZOFFSETFROM:-0700
TZOFFSETTO:-0800
TZNAME:PST
DTSTART:20241103T090000
END:STANDARD
BEGIN:DAYLIGHT
TZOFFSETFROM:-0800
TZOFFSETTO:-0700
TZNAME:PDT
DTSTART:20250309T100000
END:DAYLIGHT
BEGIN:STANDARD
TZOFFSETFROM:-0700
TZOFFSETTO:-0800
TZNAME:PST
DTSTART:20251102T090000
END:STANDARD
BEGIN:DAYLIGHT
TZOFFSETFROM:-0800
TZOFFSETTO:-0700
TZNAME:PDT
DTSTART:20260308T100000
END:DAYLIGHT
BEGIN:STANDARD
TZOFFSETFROM:-0700
TZOFFSETTO:-0800
TZNAME:PST
DTSTART:20261101T090000
END:STANDARD
END:VTIMEZONE
BEGIN:VEVENT
DTSTART;VALUE=DATE:20250304
DTEND;VALUE=DATE:20250305
DTSTAMP:20260422T223736
CREATED:20241212T204018Z
LAST-MODIFIED:20241212T204018Z
UID:50517-1741046400-1741132799@wbes.sd51.bc.ca
SUMMARY:WBES Science Fair
DESCRIPTION:
URL:https://wbes.sd51.bc.ca/event/wbes-science-fair-2/
END:VEVENT
BEGIN:VEVENT
DTSTART;VALUE=DATE:20250305
DTEND;VALUE=DATE:20250306
DTSTAMP:20260422T223736
CREATED:20241212T203738Z
LAST-MODIFIED:20241212T203738Z
UID:50515-1741132800-1741219199@wbes.sd51.bc.ca
SUMMARY:West Science Fair @ BCSS
DESCRIPTION:
URL:https://wbes.sd51.bc.ca/event/west-science-fair-bcss/
END:VEVENT
BEGIN:VEVENT
DTSTART;TZID=America/Vancouver:20250305T161500
DTEND;TZID=America/Vancouver:20250305T171500
DTSTAMP:20260422T223736
CREATED:20250220T224836Z
LAST-MODIFIED:20250220T224836Z
UID:50533-1741191300-1741194900@wbes.sd51.bc.ca
SUMMARY:PAC Meeting
DESCRIPTION:4:15 in the library\, all are welcome to join.
URL:https://wbes.sd51.bc.ca/event/pac-meeting-14/
END:VEVENT
BEGIN:VEVENT
DTSTART;VALUE=DATE:20250306
DTEND;VALUE=DATE:20250307
DTSTAMP:20260422T223736
CREATED:20241212T203322Z
LAST-MODIFIED:20241212T203322Z
UID:50512-1741219200-1741305599@wbes.sd51.bc.ca
SUMMARY:Basketball - Playday @ BCSS
DESCRIPTION:
URL:https://wbes.sd51.bc.ca/event/basketball-playday-bcss-2/
END:VEVENT
BEGIN:VEVENT
DTSTART;VALUE=DATE:20250313
DTEND;VALUE=DATE:20250314
DTSTAMP:20260422T223736
CREATED:20240918T223531Z
LAST-MODIFIED:20240918T223531Z
UID:50349-1741824000-1741910399@wbes.sd51.bc.ca
SUMMARY:Last Day of Classes before Spring Break
DESCRIPTION:
URL:https://wbes.sd51.bc.ca/event/last-day-of-classes-before-spring-break/
END:VEVENT
BEGIN:VEVENT
DTSTART;VALUE=DATE:20250313
DTEND;VALUE=DATE:20250314
DTSTAMP:20260422T223736
CREATED:20241104T202448Z
LAST-MODIFIED:20241104T202448Z
UID:50450-1741824000-1741910399@wbes.sd51.bc.ca
SUMMARY:Report Cards go Home
DESCRIPTION:
URL:https://wbes.sd51.bc.ca/event/report-cards-go-home-2/
END:VEVENT
BEGIN:VEVENT
DTSTART;VALUE=DATE:20250313
DTEND;VALUE=DATE:20250314
DTSTAMP:20260422T223736
CREATED:20241120T223021Z
LAST-MODIFIED:20241120T223021Z
UID:50478-1741824000-1741910399@wbes.sd51.bc.ca
SUMMARY:Primary Ski Day
DESCRIPTION:
URL:https://wbes.sd51.bc.ca/event/primary-ski-day-2/
END:VEVENT
BEGIN:VEVENT
DTSTART;VALUE=DATE:20250314
DTEND;VALUE=DATE:20250331
DTSTAMP:20260422T223736
CREATED:20240906T214929Z
LAST-MODIFIED:20240906T214929Z
UID:50325-1741910400-1743379199@wbes.sd51.bc.ca
SUMMARY:Spring Break
DESCRIPTION:
URL:https://wbes.sd51.bc.ca/event/spring-break-4/
END:VEVENT
BEGIN:VEVENT
DTSTART;VALUE=DATE:20250331
DTEND;VALUE=DATE:20250401
DTSTAMP:20260422T223736
CREATED:20240918T223627Z
LAST-MODIFIED:20240918T223627Z
UID:50351-1743379200-1743465599@wbes.sd51.bc.ca
SUMMARY:Classes in Session
DESCRIPTION:
URL:https://wbes.sd51.bc.ca/event/classes-in-session-2/
END:VEVENT
END:VCALENDAR