BEGIN:VCALENDAR
VERSION:2.0
PRODID:-//West Boundary Elementary School - ECPv6.15.20//NONSGML v1.0//EN
CALSCALE:GREGORIAN
METHOD:PUBLISH
X-ORIGINAL-URL:https://wbes.sd51.bc.ca
X-WR-CALDESC:Events for West Boundary Elementary School
REFRESH-INTERVAL;VALUE=DURATION:PT1H
X-Robots-Tag:noindex
X-PUBLISHED-TTL:PT1H
BEGIN:VTIMEZONE
TZID:America/Vancouver
BEGIN:DAYLIGHT
TZOFFSETFROM:-0800
TZOFFSETTO:-0700
TZNAME:PDT
DTSTART:20240310T100000
END:DAYLIGHT
BEGIN:STANDARD
TZOFFSETFROM:-0700
TZOFFSETTO:-0800
TZNAME:PST
DTSTART:20241103T090000
END:STANDARD
BEGIN:DAYLIGHT
TZOFFSETFROM:-0800
TZOFFSETTO:-0700
TZNAME:PDT
DTSTART:20250309T100000
END:DAYLIGHT
BEGIN:STANDARD
TZOFFSETFROM:-0700
TZOFFSETTO:-0800
TZNAME:PST
DTSTART:20251102T090000
END:STANDARD
BEGIN:DAYLIGHT
TZOFFSETFROM:-0800
TZOFFSETTO:-0700
TZNAME:PDT
DTSTART:20260308T100000
END:DAYLIGHT
BEGIN:STANDARD
TZOFFSETFROM:-0700
TZOFFSETTO:-0800
TZNAME:PST
DTSTART:20261101T090000
END:STANDARD
END:VTIMEZONE
BEGIN:VEVENT
DTSTART;TZID=America/Vancouver:20250407T161500
DTEND;TZID=America/Vancouver:20250407T171500
DTSTAMP:20260423T070552
CREATED:20250306T235031Z
LAST-MODIFIED:20250306T235031Z
UID:50567-1744042500-1744046100@wbes.sd51.bc.ca
SUMMARY:PAC Meeting @ 4:15
DESCRIPTION:
URL:https://wbes.sd51.bc.ca/event/pac-meeting-415/
END:VEVENT
BEGIN:VEVENT
DTSTART;TZID=America/Vancouver:20250415T180000
DTEND;TZID=America/Vancouver:20250415T190000
DTSTAMP:20260423T070552
CREATED:20250307T000046Z
LAST-MODIFIED:20250307T000046Z
UID:50568-1744740000-1744743600@wbes.sd51.bc.ca
SUMMARY:Trustee Meeting at WBES
DESCRIPTION:Please join us to a trustee meeting hosted by WBES at 6:00 pm.
URL:https://wbes.sd51.bc.ca/event/trustee-meeting-at-wbes/
END:VEVENT
BEGIN:VEVENT
DTSTART;VALUE=DATE:20250416
DTEND;VALUE=DATE:20250417
DTSTAMP:20260423T070552
CREATED:20240918T225726Z
LAST-MODIFIED:20250310T174957Z
UID:50353-1744761600-1744847999@wbes.sd51.bc.ca
SUMMARY:Easter Egg Hunt
DESCRIPTION:
URL:https://wbes.sd51.bc.ca/event/easter-egg-hunt-2/
END:VEVENT
BEGIN:VEVENT
DTSTART;VALUE=DATE:20250418
DTEND;VALUE=DATE:20250419
DTSTAMP:20260423T070552
CREATED:20240918T225855Z
LAST-MODIFIED:20240918T225855Z
UID:50355-1744934400-1745020799@wbes.sd51.bc.ca
SUMMARY:Good Friday
DESCRIPTION:
URL:https://wbes.sd51.bc.ca/event/good-friday-2/
END:VEVENT
BEGIN:VEVENT
DTSTART;VALUE=DATE:20250421
DTEND;VALUE=DATE:20250422
DTSTAMP:20260423T070552
CREATED:20240918T225937Z
LAST-MODIFIED:20240918T225937Z
UID:50357-1745193600-1745279999@wbes.sd51.bc.ca
SUMMARY:Easter Monday - No School
DESCRIPTION:
URL:https://wbes.sd51.bc.ca/event/easter-monday-no-school-3/
END:VEVENT
BEGIN:VEVENT
DTSTART;TZID=America/Vancouver:20250424T130000
DTEND;TZID=America/Vancouver:20250424T140000
DTSTAMP:20260423T070552
CREATED:20241015T213831Z
LAST-MODIFIED:20241015T213831Z
UID:50407-1745499600-1745503200@wbes.sd51.bc.ca
SUMMARY:ArtStarts - From Humming to Mouth Drumming
DESCRIPTION:The performance will begin at 1:00 in the gym.
URL:https://wbes.sd51.bc.ca/event/artstarts-from-humming-to-mouth-drumming/
END:VEVENT
BEGIN:VEVENT
DTSTART;VALUE=DATE:20250425
DTEND;VALUE=DATE:20250426
DTSTAMP:20260423T070552
CREATED:20240918T230018Z
LAST-MODIFIED:20240918T230018Z
UID:50359-1745539200-1745625599@wbes.sd51.bc.ca
SUMMARY:School in Session
DESCRIPTION:
URL:https://wbes.sd51.bc.ca/event/school-in-session-17/
END:VEVENT
BEGIN:VEVENT
DTSTART;VALUE=DATE:20250425
DTEND;VALUE=DATE:20250426
DTSTAMP:20260423T070552
CREATED:20240918T230307Z
LAST-MODIFIED:20240918T230307Z
UID:50361-1745539200-1745625599@wbes.sd51.bc.ca
SUMMARY:Earth Day/ Family Day
DESCRIPTION:Families are invited to the school for Earth Day activities and lunch followed by student led conferences.
URL:https://wbes.sd51.bc.ca/event/earth-day-family-day/
END:VEVENT
BEGIN:VEVENT
DTSTART;VALUE=DATE:20250425
DTEND;VALUE=DATE:20250426
DTSTAMP:20260423T070552
CREATED:20240918T230359Z
LAST-MODIFIED:20240918T230359Z
UID:50363-1745539200-1745625599@wbes.sd51.bc.ca
SUMMARY:Student Led Conferences
DESCRIPTION:
URL:https://wbes.sd51.bc.ca/event/student-led-conferences-2/
END:VEVENT
BEGIN:VEVENT
DTSTART;VALUE=DATE:20250425
DTEND;VALUE=DATE:20250426
DTSTAMP:20260423T070552
CREATED:20240918T230502Z
LAST-MODIFIED:20240918T230502Z
UID:50365-1745539200-1745625599@wbes.sd51.bc.ca
SUMMARY:Early Dismissal at 2:30
DESCRIPTION:Please expect your student home 1 hour early.
URL:https://wbes.sd51.bc.ca/event/early-dismissal-at-230-4/
END:VEVENT
END:VCALENDAR